Package: ggspavis Version: 1.12.0 Command: /Library/Frameworks/R.framework/Resources/bin/R CMD build --keep-empty-dirs --no-resave-data ggspavis StartedAt: 2025-02-14 00:30:54 -0500 (Fri, 14 Feb 2025) EndedAt: 2025-02-14 00:32:42 -0500 (Fri, 14 Feb 2025) EllapsedTime: 108.3 seconds RetCode: 0 Status: OK PackageFile: ggspavis_1.12.0.tar.gz PackageFileSize: 6.82 <A href="http://en.wikipedia.org/wiki/MiB" target="_blank">MiB</A>