Package: ggtree Version: 3.14.0 Command: /home/biocbuild/bbs-3.20-bioc/R/bin/R CMD build --keep-empty-dirs --no-resave-data --md5 ggtree StartedAt: 2025-02-03 17:36:49 -0500 (Mon, 03 Feb 2025) EndedAt: 2025-02-03 17:37:02 -0500 (Mon, 03 Feb 2025) EllapsedTime: 13.0 seconds RetCode: 0 Status: OK PackageFile: ggtree_3.14.0.tar.gz PackageFileSize: 358.4 KiB