Package: ggtree Version: 3.14.0 Command: /home/biocbuild/bbs-3.20-bioc/R/bin/R CMD check --install=check:ggtree.install-out.txt --library=/home/biocbuild/bbs-3.20-bioc/R/site-library --timings ggtree_3.14.0.tar.gz StartedAt: 2025-02-03 22:49:52 -0500 (Mon, 03 Feb 2025) EndedAt: 2025-02-03 22:50:56 -0500 (Mon, 03 Feb 2025) EllapsedTime: 63.1 seconds RetCode: 0 Status: OK CheckDir: ggtree.Rcheck Warnings: 0