Package: ggtreeExtra
Version: 1.16.0
Command: rm -rf ggtreeExtra.buildbin-libdir && mkdir ggtreeExtra.buildbin-libdir && /Users/biocbuild/BBS/utils/build-universal.sh ggtreeExtra_1.16.0.tar.gz /Library/Frameworks/R.framework/Resources/bin/R ggtreeExtra.buildbin-libdir
StartedAt: 2024-11-09 16:51:54 -0500 (Sat, 09 Nov 2024)
EndedAt: 2024-11-09 16:51:57 -0500 (Sat, 09 Nov 2024)
EllapsedTime: 3.1 seconds
RetCode: 0
Status: OK
PackageFile: ggtreeExtra_1.16.0.tgz
PackageFileSize: 1.04 <A href="http://en.wikipedia.org/wiki/MiB" target="_blank">MiB</A>