Package: ggtreeExtra Version: 1.16.0 Command: /home/biocbuild/bbs-3.20-bioc/R/bin/R CMD check --install=check:ggtreeExtra.install-out.txt --library=/home/biocbuild/bbs-3.20-bioc/R/site-library --timings ggtreeExtra_1.16.0.tar.gz StartedAt: 2025-02-03 22:50:29 -0500 (Mon, 03 Feb 2025) EndedAt: 2025-02-03 22:51:24 -0500 (Mon, 03 Feb 2025) EllapsedTime: 54.1 seconds RetCode: 0 Status: OK CheckDir: ggtreeExtra.Rcheck Warnings: 0