Package: ggtreeExtra Version: 1.16.0 Command: F:\biocbuild\bbs-3.20-bioc\R\bin\R.exe CMD INSTALL ggtreeExtra StartedAt: 2025-02-03 16:01:31 -0500 (Mon, 03 Feb 2025) EndedAt: 2025-02-03 16:01:58 -0500 (Mon, 03 Feb 2025) EllapsedTime: 27.6 seconds RetCode: 0 Status: OK