Package: ginmappeR Version: 1.2.3 Command: rm -rf ginmappeR.buildbin-libdir && mkdir ginmappeR.buildbin-libdir && /Users/biocbuild/BBS/utils/build-universal.sh ginmappeR_1.2.3.tar.gz /Library/Frameworks/R.framework/Resources/bin/R ginmappeR.buildbin-libdir StartedAt: 2025-02-05 16:04:01 -0500 (Wed, 05 Feb 2025) EndedAt: 2025-02-05 16:04:23 -0500 (Wed, 05 Feb 2025) EllapsedTime: 21.8 seconds RetCode: 0 Status: OK PackageFile: ginmappeR_1.2.3.tgz PackageFileSize: 671.7 KiB