Package: ginmappeR Version: 1.2.1 Command: /Library/Frameworks/R.framework/Resources/bin/R CMD INSTALL ginmappeR StartedAt: 2024-11-08 15:25:12 -0500 (Fri, 08 Nov 2024) EndedAt: 2024-11-08 15:25:17 -0500 (Fri, 08 Nov 2024) EllapsedTime: 5.9 seconds RetCode: 0 Status: OK