Package: ginmappeR Version: 1.2.3 Command: /home/biocbuild/bbs-3.20-bioc/R/bin/R CMD check --install=check:ginmappeR.install-out.txt --library=/home/biocbuild/bbs-3.20-bioc/R/site-library --timings ginmappeR_1.2.3.tar.gz StartedAt: 2025-02-03 22:50:50 -0500 (Mon, 03 Feb 2025) EndedAt: 2025-02-03 22:55:46 -0500 (Mon, 03 Feb 2025) EllapsedTime: 295.4 seconds RetCode: 0 Status: OK CheckDir: ginmappeR.Rcheck Warnings: 0