Package: ginmappeR
Version: 1.1.0
Command: chmod a+r ginmappeR -R && F:\biocbuild\bbs-3.20-bioc\R\bin\R.exe CMD build --keep-empty-dirs --no-resave-data ginmappeR
StartedAt: 2024-06-09 19:19:51 -0400 (Sun, 09 Jun 2024)
EndedAt: 2024-06-09 19:22:53 -0400 (Sun, 09 Jun 2024)
EllapsedTime: 181.7 seconds
RetCode: 0
Status: OK
PackageFile: ginmappeR_1.1.0.tar.gz
PackageFileSize: 669.9 <A href="http://en.wikipedia.org/wiki/KiB" target="_blank">KiB</A>