Package: ginmappeR Version: 1.2.3 Command: /home/biocbuild/R/R/bin/R CMD check --install=check:ginmappeR.install-out.txt --library=/home/biocbuild/R/R/site-library --no-vignettes --timings ginmappeR_1.2.3.tar.gz StartedAt: 2025-02-04 07:29:30 -0000 (Tue, 04 Feb 2025) EndedAt: 2025-02-04 08:09:30 -0000 (Tue, 04 Feb 2025) EllapsedTime: 2400.1 seconds RetCode: None Status: TIMEOUT CheckDir: ginmappeR.Rcheck Warnings: NA