Package: girafe Version: 1.58.0 Command: /Library/Frameworks/R.framework/Resources/bin/R CMD build --keep-empty-dirs --no-resave-data girafe StartedAt: 2025-02-04 00:27:16 -0500 (Tue, 04 Feb 2025) EndedAt: 2025-02-04 00:28:35 -0500 (Tue, 04 Feb 2025) EllapsedTime: 79.1 seconds RetCode: 0 Status: OK PackageFile: girafe_1.58.0.tar.gz PackageFileSize: 1.54 MiB