Package: girafe Version: 1.58.0 Command: /Library/Frameworks/R.framework/Resources/bin/R CMD INSTALL girafe StartedAt: 2025-02-03 16:11:44 -0500 (Mon, 03 Feb 2025) EndedAt: 2025-02-03 16:12:29 -0500 (Mon, 03 Feb 2025) EllapsedTime: 45.0 seconds RetCode: 0 Status: OK