Package: girafe Version: 1.58.0 Command: /home/biocbuild/bbs-3.20-bioc/R/bin/R CMD check --install=check:girafe.install-out.txt --library=/home/biocbuild/bbs-3.20-bioc/R/site-library --timings girafe_1.58.0.tar.gz StartedAt: 2025-02-03 22:50:56 -0500 (Mon, 03 Feb 2025) EndedAt: 2025-02-03 22:55:14 -0500 (Mon, 03 Feb 2025) EllapsedTime: 258.3 seconds RetCode: 0 Status: OK CheckDir: girafe.Rcheck Warnings: 0