Package: girafe Version: 1.58.0 Command: /home/biocbuild/bbs-3.20-bioc/R/bin/R CMD INSTALL girafe StartedAt: 2025-02-03 15:41:01 -0500 (Mon, 03 Feb 2025) EndedAt: 2025-02-03 15:41:38 -0500 (Mon, 03 Feb 2025) EllapsedTime: 37.7 seconds RetCode: 0 Status: OK