Package: glmGamPoi Version: 1.18.0 Command: /Library/Frameworks/R.framework/Resources/bin/R CMD check --install=check:glmGamPoi.install-out.txt --library=/Library/Frameworks/R.framework/Resources/library --no-vignettes --timings glmGamPoi_1.18.0.tar.gz StartedAt: 2025-01-31 20:59:00 -0500 (Fri, 31 Jan 2025) EndedAt: 2025-01-31 21:02:27 -0500 (Fri, 31 Jan 2025) EllapsedTime: 207.0 seconds RetCode: 0 Status: OK CheckDir: glmGamPoi.Rcheck Warnings: 0