Package: glmGamPoi Version: 1.18.0 Command: rm -rf glmGamPoi.buildbin-libdir && mkdir glmGamPoi.buildbin-libdir && /Users/biocbuild/BBS/utils/build-universal.sh glmGamPoi_1.18.0.tar.gz /Library/Frameworks/R.framework/Resources/bin/R glmGamPoi.buildbin-libdir StartedAt: 2025-02-11 13:22:54 -0500 (Tue, 11 Feb 2025) EndedAt: 2025-02-11 13:26:09 -0500 (Tue, 11 Feb 2025) EllapsedTime: 195.0 seconds RetCode: 0 Status: OK PackageFile: glmGamPoi_1.18.0.tgz PackageFileSize: 1.933 MiB