Package: glmGamPoi Version: 1.18.0 Command: /home/biocbuild/bbs-3.20-bioc/R/bin/R CMD build --keep-empty-dirs --no-resave-data --md5 glmGamPoi StartedAt: 2025-02-10 17:29:43 -0500 (Mon, 10 Feb 2025) EndedAt: 2025-02-10 17:37:29 -0500 (Mon, 10 Feb 2025) EllapsedTime: 466.5 seconds RetCode: 0 Status: OK PackageFile: glmGamPoi_1.18.0.tar.gz PackageFileSize: 2.098 MiB