Package: glmGamPoi Version: 1.18.0 Command: /home/biocbuild/bbs-3.20-bioc/R/bin/R CMD INSTALL glmGamPoi StartedAt: 2025-02-03 15:24:40 -0500 (Mon, 03 Feb 2025) EndedAt: 2025-02-03 15:25:46 -0500 (Mon, 03 Feb 2025) EllapsedTime: 66.4 seconds RetCode: 0 Status: OK