Package: glmGamPoi Version: 1.18.0 Command: chmod a+r glmGamPoi -R && F:\biocbuild\bbs-3.20-bioc\R\bin\R.exe CMD build --keep-empty-dirs --no-resave-data glmGamPoi StartedAt: 2025-02-10 19:24:13 -0500 (Mon, 10 Feb 2025) EndedAt: 2025-02-10 19:37:46 -0500 (Mon, 10 Feb 2025) EllapsedTime: 813.2 seconds RetCode: 0 Status: OK PackageFile: glmGamPoi_1.18.0.tar.gz PackageFileSize: 1.678 MiB