Package: glmGamPoi Version: 1.18.0 Command: F:\biocbuild\bbs-3.20-bioc\R\bin\R.exe CMD INSTALL glmGamPoi StartedAt: 2025-02-03 16:47:01 -0500 (Mon, 03 Feb 2025) EndedAt: 2025-02-03 16:50:09 -0500 (Mon, 03 Feb 2025) EllapsedTime: 187.8 seconds RetCode: 0 Status: OK