Package: glmGamPoi Version: 1.18.0 Command: /home/biocbuild/R/R/bin/R CMD build --keep-empty-dirs --no-resave-data glmGamPoi StartedAt: 2025-02-03 23:58:02 -0000 (Mon, 03 Feb 2025) EndedAt: 2025-02-04 00:08:27 -0000 (Tue, 04 Feb 2025) EllapsedTime: 625.2 seconds RetCode: 0 Status: OK PackageFile: glmGamPoi_1.18.0.tar.gz PackageFileSize: 1.818 MiB