Package: glmGamPoi Version: 1.18.0 Command: /home/biocbuild/R/R/bin/R CMD check --install=check:glmGamPoi.install-out.txt --library=/home/biocbuild/R/R/site-library --no-vignettes --timings glmGamPoi_1.18.0.tar.gz StartedAt: 2025-02-04 07:30:03 -0000 (Tue, 04 Feb 2025) EndedAt: 2025-02-04 07:33:47 -0000 (Tue, 04 Feb 2025) EllapsedTime: 224.2 seconds RetCode: 0 Status: OK CheckDir: glmGamPoi.Rcheck Warnings: 0