Package: globalSeq Version: 1.34.0 Command: /Library/Frameworks/R.framework/Resources/bin/R CMD build --keep-empty-dirs --no-resave-data globalSeq StartedAt: 2025-01-31 00:35:18 -0500 (Fri, 31 Jan 2025) EndedAt: 2025-01-31 00:35:34 -0500 (Fri, 31 Jan 2025) EllapsedTime: 16.1 seconds RetCode: 0 Status: OK PackageFile: globalSeq_1.34.0.tar.gz PackageFileSize: 715 KiB