Package: globalSeq Version: 1.34.0 Command: /Library/Frameworks/R.framework/Resources/bin/R CMD check --install=check:globalSeq.install-out.txt --library=/Library/Frameworks/R.framework/Resources/library --no-vignettes --timings globalSeq_1.34.0.tar.gz StartedAt: 2025-01-31 21:01:41 -0500 (Fri, 31 Jan 2025) EndedAt: 2025-01-31 21:02:27 -0500 (Fri, 31 Jan 2025) EllapsedTime: 46.2 seconds RetCode: 0 Status: OK CheckDir: globalSeq.Rcheck Warnings: 0