Package: globalSeq Version: 1.34.0 Command: /Library/Frameworks/R.framework/Resources/bin/R CMD INSTALL globalSeq StartedAt: 2025-01-30 15:05:25 -0500 (Thu, 30 Jan 2025) EndedAt: 2025-01-30 15:05:28 -0500 (Thu, 30 Jan 2025) EllapsedTime: 3.0 seconds RetCode: 0 Status: OK