Package: globalSeq Version: 1.34.0 Command: rm -rf globalSeq.buildbin-libdir && mkdir globalSeq.buildbin-libdir && /Users/biocbuild/BBS/utils/build-universal.sh globalSeq_1.34.0.tar.gz /Library/Frameworks/R.framework/Resources/bin/R globalSeq.buildbin-libdir StartedAt: 2025-01-31 12:54:44 -0500 (Fri, 31 Jan 2025) EndedAt: 2025-01-31 12:54:50 -0500 (Fri, 31 Jan 2025) EllapsedTime: 6.4 seconds RetCode: 0 Status: OK PackageFile: globalSeq_1.34.0.tgz PackageFileSize: 709.4 KiB