Package: globalSeq Version: 1.34.0 Command: /Library/Frameworks/R.framework/Resources/bin/R CMD INSTALL globalSeq StartedAt: 2025-01-30 15:07:02 -0500 (Thu, 30 Jan 2025) EndedAt: 2025-01-30 15:07:09 -0500 (Thu, 30 Jan 2025) EllapsedTime: 7.0 seconds RetCode: 0 Status: OK