Package: globalSeq Version: 1.34.0 Command: /home/biocbuild/bbs-3.20-bioc/R/bin/R CMD build --keep-empty-dirs --no-resave-data --md5 globalSeq StartedAt: 2025-01-30 17:27:52 -0500 (Thu, 30 Jan 2025) EndedAt: 2025-01-30 17:28:02 -0500 (Thu, 30 Jan 2025) EllapsedTime: 10.0 seconds RetCode: 0 Status: OK PackageFile: globalSeq_1.34.0.tar.gz PackageFileSize: 715.9 KiB