Package: globalSeq Version: 1.34.0 Command: chmod a+r globalSeq -R && F:\biocbuild\bbs-3.20-bioc\R\bin\R.exe CMD build --keep-empty-dirs --no-resave-data globalSeq StartedAt: 2025-01-30 19:16:07 -0500 (Thu, 30 Jan 2025) EndedAt: 2025-01-30 19:16:31 -0500 (Thu, 30 Jan 2025) EllapsedTime: 23.2 seconds RetCode: 0 Status: OK PackageFile: globalSeq_1.34.0.tar.gz PackageFileSize: 714.6 KiB