Package: globalSeq Version: 1.34.0 Command: F:\biocbuild\bbs-3.20-bioc\R\bin\R.exe CMD INSTALL globalSeq StartedAt: 2025-01-30 15:19:57 -0500 (Thu, 30 Jan 2025) EndedAt: 2025-01-30 15:20:09 -0500 (Thu, 30 Jan 2025) EllapsedTime: 11.5 seconds RetCode: 0 Status: OK