Package: globalSeq Version: 1.34.0 Command: /home/biocbuild/R/R/bin/R CMD build --keep-empty-dirs --no-resave-data globalSeq StartedAt: 2025-01-30 23:58:29 -0000 (Thu, 30 Jan 2025) EndedAt: 2025-01-30 23:58:40 -0000 (Thu, 30 Jan 2025) EllapsedTime: 11.0 seconds RetCode: 0 Status: OK PackageFile: globalSeq_1.34.0.tar.gz PackageFileSize: 754.9 KiB