Package: globalSeq Version: 1.34.0 Command: /home/biocbuild/R/R/bin/R CMD INSTALL globalSeq StartedAt: 2025-02-03 20:21:51 -0000 (Mon, 03 Feb 2025) EndedAt: 2025-02-03 20:22:03 -0000 (Mon, 03 Feb 2025) EllapsedTime: 12.7 seconds RetCode: 0 Status: OK