Package: gmapR Version: 1.48.0 Command: /Library/Frameworks/R.framework/Resources/bin/R CMD INSTALL gmapR StartedAt: 2025-02-03 15:47:42 -0500 (Mon, 03 Feb 2025) EndedAt: 2025-02-03 16:00:29 -0500 (Mon, 03 Feb 2025) EllapsedTime: 767.2 seconds RetCode: 0 Status: OK