Package: gmapR Version: 1.48.0 Command: /home/biocbuild/bbs-3.20-bioc/R/bin/R CMD check --install=check:gmapR.install-out.txt --library=/home/biocbuild/bbs-3.20-bioc/R/site-library --timings gmapR_1.48.0.tar.gz StartedAt: 2025-02-03 22:52:04 -0500 (Mon, 03 Feb 2025) EndedAt: 2025-02-03 22:59:23 -0500 (Mon, 03 Feb 2025) EllapsedTime: 439.5 seconds RetCode: 0 Status: WARNINGS CheckDir: gmapR.Rcheck Warnings: 7