Package: gmapR Version: 1.48.0 Command: /home/biocbuild/R/R/bin/R CMD check --install=check:gmapR.install-out.txt --library=/home/biocbuild/R/R/site-library --no-vignettes --timings gmapR_1.48.0.tar.gz StartedAt: 2025-02-04 07:31:20 -0000 (Tue, 04 Feb 2025) EndedAt: 2025-02-04 07:38:52 -0000 (Tue, 04 Feb 2025) EllapsedTime: 452.3 seconds RetCode: 0 Status: WARNINGS CheckDir: gmapR.Rcheck Warnings: 7