Package: gmoviz Version: 1.18.0 Command: rm -rf gmoviz.buildbin-libdir && mkdir gmoviz.buildbin-libdir && /Users/biocbuild/BBS/utils/build-universal.sh gmoviz_1.18.0.tar.gz /Library/Frameworks/R.framework/Resources/bin/R gmoviz.buildbin-libdir StartedAt: 2025-02-05 16:05:11 -0500 (Wed, 05 Feb 2025) EndedAt: 2025-02-05 16:05:57 -0500 (Wed, 05 Feb 2025) EllapsedTime: 46.9 seconds RetCode: 0 Status: OK PackageFile: gmoviz_1.18.0.tgz PackageFileSize: 6.772 MiB