Package: gmoviz Version: 1.18.0 Command: /Library/Frameworks/R.framework/Resources/bin/R CMD INSTALL gmoviz StartedAt: 2025-02-03 16:27:25 -0500 (Mon, 03 Feb 2025) EndedAt: 2025-02-03 16:28:08 -0500 (Mon, 03 Feb 2025) EllapsedTime: 43.4 seconds RetCode: 0 Status: OK