Package: gmoviz
Version: 1.18.0
Command: /home/biocbuild/bbs-3.20-bioc/R/bin/R CMD INSTALL gmoviz
StartedAt: 2025-02-17 15:35:17 -0500 (Mon, 17 Feb 2025)
EndedAt: 2025-02-17 15:35:51 -0500 (Mon, 17 Feb 2025)
EllapsedTime: 33.7 seconds
RetCode: 0
Status: OK