Package: gmoviz
Version: 1.18.0
Command: rm -rf gmoviz.buildbin-libdir && mkdir gmoviz.buildbin-libdir && F:\biocbuild\bbs-3.20-bioc\R\bin\R.exe CMD INSTALL --build --library=gmoviz.buildbin-libdir gmoviz_1.18.0.tar.gz
StartedAt: 2025-02-18 08:14:54 -0500 (Tue, 18 Feb 2025)
EndedAt: 2025-02-18 08:15:43 -0500 (Tue, 18 Feb 2025)
EllapsedTime: 49.5 seconds
RetCode: 0
Status: OK
PackageFile: gmoviz_1.18.0.zip
PackageFileSize: 4.77 <A href="http://en.wikipedia.org/wiki/MiB" target="_blank">MiB</A>