Package: goProfiles Version: 1.68.0 Command: /Library/Frameworks/R.framework/Resources/bin/R CMD build --keep-empty-dirs --no-resave-data goProfiles StartedAt: 2025-02-04 00:45:09 -0500 (Tue, 04 Feb 2025) EndedAt: 2025-02-04 00:46:02 -0500 (Tue, 04 Feb 2025) EllapsedTime: 52.8 seconds RetCode: 0 Status: OK PackageFile: goProfiles_1.68.0.tar.gz PackageFileSize: 288.3 KiB