Package: goProfiles Version: 1.68.0 Command: /Library/Frameworks/R.framework/Resources/bin/R CMD check --install=check:goProfiles.install-out.txt --library=/Library/Frameworks/R.framework/Resources/library --no-vignettes --timings goProfiles_1.68.0.tar.gz StartedAt: 2025-02-04 21:42:01 -0500 (Tue, 04 Feb 2025) EndedAt: 2025-02-04 21:44:58 -0500 (Tue, 04 Feb 2025) EllapsedTime: 177.4 seconds RetCode: 0 Status: OK CheckDir: goProfiles.Rcheck Warnings: 0