Package: goProfiles Version: 1.68.0 Command: /Library/Frameworks/R.framework/Resources/bin/R CMD INSTALL goProfiles StartedAt: 2025-02-03 15:42:37 -0500 (Mon, 03 Feb 2025) EndedAt: 2025-02-03 15:42:45 -0500 (Mon, 03 Feb 2025) EllapsedTime: 8.1 seconds RetCode: 0 Status: OK