Package: goProfiles Version: 1.68.0 Command: /Library/Frameworks/R.framework/Resources/bin/R CMD INSTALL goProfiles StartedAt: 2025-01-30 15:44:15 -0500 (Thu, 30 Jan 2025) EndedAt: 2025-01-30 15:44:49 -0500 (Thu, 30 Jan 2025) EllapsedTime: 34.5 seconds RetCode: 0 Status: OK