Package: goProfiles Version: 1.68.0 Command: /home/biocbuild/bbs-3.20-bioc/R/bin/R CMD build --keep-empty-dirs --no-resave-data --md5 goProfiles StartedAt: 2025-01-30 17:29:40 -0500 (Thu, 30 Jan 2025) EndedAt: 2025-01-30 17:30:16 -0500 (Thu, 30 Jan 2025) EllapsedTime: 36.0 seconds RetCode: 0 Status: OK PackageFile: goProfiles_1.68.0.tar.gz PackageFileSize: 293.1 KiB