Package: goProfiles Version: 1.68.0 Command: /home/biocbuild/bbs-3.20-bioc/R/bin/R CMD check --install=check:goProfiles.install-out.txt --library=/home/biocbuild/bbs-3.20-bioc/R/site-library --timings goProfiles_1.68.0.tar.gz StartedAt: 2025-02-03 22:54:50 -0500 (Mon, 03 Feb 2025) EndedAt: 2025-02-03 22:57:36 -0500 (Mon, 03 Feb 2025) EllapsedTime: 166.1 seconds RetCode: 0 Status: OK CheckDir: goProfiles.Rcheck Warnings: 0