Package: goProfiles Version: 1.68.0 Command: rm -rf goProfiles.buildbin-libdir && mkdir goProfiles.buildbin-libdir && F:\biocbuild\bbs-3.20-bioc\R\bin\R.exe CMD INSTALL --build --library=goProfiles.buildbin-libdir goProfiles_1.68.0.tar.gz StartedAt: 2025-01-31 08:46:58 -0500 (Fri, 31 Jan 2025) EndedAt: 2025-01-31 08:47:39 -0500 (Fri, 31 Jan 2025) EllapsedTime: 41.3 seconds RetCode: 0 Status: OK PackageFile: goProfiles_1.68.0.zip PackageFileSize: 509.8 KiB