Package: goProfiles Version: 1.68.0 Command: chmod a+r goProfiles -R && F:\biocbuild\bbs-3.20-bioc\R\bin\R.exe CMD build --keep-empty-dirs --no-resave-data goProfiles StartedAt: 2025-01-30 19:18:03 -0500 (Thu, 30 Jan 2025) EndedAt: 2025-01-30 19:19:13 -0500 (Thu, 30 Jan 2025) EllapsedTime: 69.9 seconds RetCode: 0 Status: OK PackageFile: goProfiles_1.68.0.tar.gz PackageFileSize: 288.5 KiB