Package: goProfiles Version: 1.68.0 Command: /home/biocbuild/R/R/bin/R CMD build --keep-empty-dirs --no-resave-data goProfiles StartedAt: 2025-02-04 00:02:49 -0000 (Tue, 04 Feb 2025) EndedAt: 2025-02-04 00:03:37 -0000 (Tue, 04 Feb 2025) EllapsedTime: 48.0 seconds RetCode: 0 Status: OK PackageFile: goProfiles_1.68.0.tar.gz PackageFileSize: 285.1 KiB