Package: goProfiles Version: 1.68.0 Command: /home/biocbuild/R/R/bin/R CMD INSTALL goProfiles StartedAt: 2025-02-03 20:46:10 -0000 (Mon, 03 Feb 2025) EndedAt: 2025-02-03 20:46:28 -0000 (Mon, 03 Feb 2025) EllapsedTime: 18.4 seconds RetCode: 0 Status: OK